BEGIN:VCALENDAR
VERSION:2.0
PRODID:-//77.104.142.166//NONSGML kigkonsult.se iCalcreator 2.24.2//
CALSCALE:GREGORIAN
METHOD:PUBLISH
X-WR-CALNAME:Baplink
X-WR-CALDESC:investing in ministry
X-FROM-URL:https://www.baplink.org.au
X-WR-TIMEZONE:Australia/Brisbane
BEGIN:VTIMEZONE
TZID:Australia/Brisbane
X-LIC-LOCATION:Australia/Brisbane
BEGIN:STANDARD
DTSTART:19920301T030000
TZOFFSETFROM:+1100
TZOFFSETTO:+1000
TZNAME:AEST
END:STANDARD
END:VTIMEZONE
BEGIN:VEVENT
UID:ai1ec-976@www.baplink.org.au
DTSTAMP:20190228T131525Z
CATEGORIES;LANGUAGE=en-AU:Monthly Super\,Quarterly BAS\,Quarterly Superannu
 ation
CONTACT:
DESCRIPTION:<div id='pl-37'  class='panel-layout' ><div id='pg-37-0'  class
 ='panel-grid panel-no-style' ><div id='pgc-37-0-0'  class='panel-grid-cell
 ' ><div id='panel-37-0-0-0' class='so-panel widget widget_sow-editor panel
 -first-child panel-last-child' data-index='0' ><div class='so-widget-sow-e
 ditor so-widget-sow-editor-base'>\n<div class='siteorigin-widget-tinymce t
 extwidget'>\n	<p style='text-align: left\;'><span style='color: #333333\;'>
 <strong><span style='font-family: Helvetica\; font-size: 14pt\;'>What does
  Baplink do?</span></strong></span></p>\n<p><span style='color: #333333\; 
 font-size: 12pt\; font-family: Helvetica\;'><strong>Baplink offers loans t
 o:</strong> </span></p>\n<ul>\n<li><span style='color: #333333\; font-size
 : 12pt\; font-family: Helvetica\;'>Queensland Baptists Churches</span></li
 >\n<li><span style='color: #333333\; font-size: 12pt\; font-family: Helvet
 ica\;'> Registered Queensland Baptists Pastors</span></li>\n<li><span styl
 e='color: #333333\; font-size: 12pt\; font-family: Helvetica\;'>Ministries
  affiliated with Queensland Baptists </span></li>\n</ul>\n<p><strong><span
  style='font-family: Helvetica\; color: #333333\; font-size: 12pt\;'>Loans
  provided by Baplink contribute to: </span></strong></p>\n<ul>\n<li><span 
 style='font-family: Helvetica\; color: #333333\; font-size: 12pt\;'>Buildi
 ng new Queensland Baptists Churches </span></li>\n<li><span style='font-fa
 mily: Helvetica\; color: #333333\; font-size: 12pt\;'>Extending and renova
 ting existing Queensland Baptists Churches</span></li>\n<li><span style='f
 ont-family: Helvetica\; color: #333333\;'>Building and maintaining Christi
 an Schools and Childcare Facilities</span></li>\n<li><span style='font-fam
 ily: Helvetica\; color: #333333\;'>Supporting community welfare projects <
 /span></li>\n</ul>\n<p><span style='color: #333333\;'><strong><span style=
 'font-family: Helvetica\; font-size: 14pt\;'>How does Baplink support Quee
 nsland Baptists Churches?</span></strong></span></p>\n<ul>\n<li><span styl
 e='font-family: Helvetica\; color: #333333\; font-size: 12pt\;'>Transactio
 nal accounts for Queensland Baptists Churches\, Pastors\, Ministries and A
 ffiliates.</span></li>\n<li><span style='font-family: Helvetica\; color: #
 333333\; font-size: 12pt\;'>Online access through BAPNET and access using 
 Apple and Android phones via the BAPAPP.</span></li>\n<li><span style='col
 or: #333333\;'><span style='font-family: Helvetica\; font-size: 12pt\;'>Ki
 ngdom Offset Accounts to offset <span style='font-family: Helvetica\; colo
 r: #333333\; font-size: 12pt\;'>Queensland Baptists Church</span> interest
 .  </span></span></li>\n<li><span style='font-family: Helvetica\; color: #
 333333\; font-size: 12pt\;'>Implementation\, Setup\, Training and Ongoing 
 Support for Xero Accounting Software.</span></li>\n<li><span style='color:
  #333333\; font-size: 12pt\; font-family: Helvetica\;'>Queensland Baptists
  Ministry Grants. </span></li>\n</ul>\n<p><span style='color: #333333\;'><
 strong><span style='font-family: Helvetica\; font-size: 14pt\;'>How can I 
 as an individual partner with Baplink?</span></strong></span></p>\n<ol>\n<
 li><span style='font-family: Helvetica\; color: #333333\;'>Open a Fixed Te
 rm Investment.</span></li>\n<li><span style='font-family: Helvetica\; colo
 r: #333333\;'>Open a Kingdom Offset Account to offset interest payments fo
 r a <span style='color: #333333\;'><span style='font-family: Helvetica\; f
 ont-size: 12pt\;'><span style='font-family: Helvetica\; color: #333333\; f
 ont-size: 12pt\;'>Queensland Baptists Church loan</span></span></span>. </
 span></li>\n</ol>\n<p><em><span style='font-family: Helvetica\; color: #33
 3333\;'>In order to offer these accounts\, Queensland Baptists has entered
  into an “intermediary authorisation” agreement under s911A(2)(b) of the C
 orporations Act 2001 (Cth) with Theta Asset Management Ltd ACN 071 807 684
  AFSL 230920 (Theta Asset Management) under which Theta Asset Management h
 as been appointed to arrange for the issue\, variation and disposal of Kin
 gdom Offset Accounts by Queensland Baptists. Theta Asset Management has al
 so appointed Queensland Baptists (Authorised Representative number 1253438
 ) and Robert Chapman (Authorised Representative number 1253437)\, the mana
 ger of Baplink\, as authorised representatives of Theta Asset Management i
 n relation to dealing in Kingdom Offset accounts.</span></em></p>\n<p><spa
 n style='color: #333333\;'><strong><span style='font-family: Helvetica\; f
 ont-size: 14pt\;'>Condition 11 of Banking Exemption No 1 2017</span></stro
 ng></span></p>\n<p><span style='font-family: Helvetica\; color: #333333\;'
 >Queensland Baptists (the Fund) is not prudentially supervised by the Aust
 ralian Prudential Regulation Authority.<br />\nTherefore\, an investor in 
 the Fund will not receive the benefit of the financial claims scheme or th
 e depositor protection provisions in the Banking Act 1959.<br />\nInvestme
 nts in the Fund are intended to be a means for investors to support the ch
 aritable purposes of the Fund.</span></p>\n<p><span style='font-family: He
 lvetica\;'><span style='color: #333333\;'><strong><span style='font-family
 : Helvetica\; font-size: 14pt\;'>ASIC Corporations (Charitable Investment 
 Fundraiser) Instrument 2016/813</span></strong></span></span></p>\n<p><spa
 n style='font-family: Helvetica\; color: #333333\;'><span style='font-fami
 ly: Helvetica\; color: #333333\;'>Queensland Baptists is required by law t
 o notify investors that:</span></span></p>\n<ul>\n 	<span style='font-famil
 y: Helvetica\; color: #333333\;'></p>\n<li>the investment is only intended
  to attract investors whose primary purpose of making their investment is 
 to support the charitable purposes of Queensland Baptists\;</li>\n<li>inve
 stors may be unable to get some or all of their money back when the invest
 or expects or at all\; and</li>\n<li>the investment is not comparable to i
 nvestments with banks\, finance companies or fund managers.</li>\n<p></spa
 n></ul>\n<p> </p>\n</div>\n</div></div></div><div id='pgc-37-0-1'  class='
 panel-grid-cell' ><div id='panel-37-0-1-0' class='so-panel widget widget_s
 iteorigin-panels-postloop panel-first-child' data-index='1' ><div class='p
 anel-widget-style panel-widget-style-for-37-0-1-0' ><h3 class='widget-titl
 e'> </h3>\n		\n		\n<article id='post-308' class='post-308 post type-post statu
 s-publish format-link hentry category-uncategorised post_format-post-forma
 t-link'>\n\n	\n	<div class='entry-main'>\n\n		\n		<header class='entry-header'>
 \n			\n			<h1 class='entry-title'><a href='https://www.baplink.org.au/how-to-use
 -bapnet/' title='Permalink to ' rel='bookmark'></a></h1>\n\n			\n		</header><!-
 - .entry-header -->\n\n					<div class='entry-content'>\n				<p style='text-align: 
 center\;'><strong><span style='color: rgb(153\, 204\, 0)\; font-family: He
 lvetica\; font-size: 18pt\;'>BAPNET User Guide</span></strong></p>\n<p sty
 le='text-align: center\;'><span style='font-family: Helvetica\; font-size:
  12pt\;'>Got questions about BAPNET online access</span></p>\n<p style='te
 xt-align: center\;'><span style='font-family: Helvetica\; font-size: 12pt\
 ;'>Click on the <a href='http://www.baplink.org.au/wp-content/uploads/2015
 /11/How-to-Use-Bapnet-v3.pdf'>link</a></span></p>\n<p style='text-align: c
 enter\;'><span style='font-family: Helvetica\; font-size: 12pt\;'>Or </spa
 n></p>\n<p style='text-align: center\;'><span style='font-family: Helvetic
 a\; font-size: 12pt\;'>Phone the Operations Team on 1800 650 062</span></p
 >\n															</div><!-- .entry-content -->\n		\n		\n	</div>\n\n</article><!-- #post-308 -
 ->\n\n	\n		<nav role='navigation' id='nav-below' class='site-navigation pagin
 g-navigation'>\n		<h1 class='assistive-text'>Post navigation</h1>\n\n	\n		<div 
 class='pagination'><span aria-current='page' class='page-numbers current'>
 1</span>\n<a class='page-numbers' href='https://www.baplink.org.au/?plugin
 =all-in-one-event-calendar&controller=ai1ec_exporter_controller&action=exp
 ort_events&ai1ec_post_ids=976#038\;controller=ai1ec_exporter_controller&ac
 tion=export_events&ai1ec_post_ids=976/page/2/'>2</a>\n<a class='page-numbe
 rs' href='https://www.baplink.org.au/?plugin=all-in-one-event-calendar&con
 troller=ai1ec_exporter_controller&action=export_events&ai1ec_post_ids=976#
 038\;controller=ai1ec_exporter_controller&action=export_events&ai1ec_post_
 ids=976/page/3/'>3</a>\n<a class='next page-numbers' href='https://www.bap
 link.org.au/?plugin=all-in-one-event-calendar&controller=ai1ec_exporter_co
 ntroller&action=export_events&ai1ec_post_ids=976#038\;controller=ai1ec_exp
 orter_controller&action=export_events&ai1ec_post_ids=976/page/2/'>Next »</
 a></div>\n\n	\n	</nav><!-- #nav-below -->\n	\n</div></div><div id='panel-37-0
 -1-1' class='so-panel widget widget_sow-editor panel-last-child' data-inde
 x='2' ><div class='panel-widget-style panel-widget-style-for-37-0-1-1' ><d
 iv class='so-widget-sow-editor so-widget-sow-editor-base'>\n<div class='si
 teorigin-widget-tinymce textwidget'>\n	<p><!-- Begin MailChimp Signup Form 
 --></p>\n<style type='text/css'>\n	#mc_embed_signup{background:#fff\; clear
 :left\; font:14px Helvetica\,Arial\,sans-serif\; }<br />	/* Add your own Ma
 ilChimp form style overrides in your site stylesheet or in this style bloc
 k.<br />	   We recommend moving this block and the preceding CSS link to th
 e HEAD of your HTML file. */<br /></style>\n<div id='mc_embed_signup'>\n<f
 orm id='mc-embedded-subscribe-form' class='validate' action='//baplink.us1
 0.list-manage.com/subscribe/post?u=84a60206153f80d3f8c8f9eba&id=d6c4f56d54
 ' method='post' name='mc-embedded-subscribe-form' novalidate='' target='_b
 lan3k'>\n<div id='mc_embed_signup_scroll'>\n<pre style='text-align: center
 \;'><span style='color: #000000\;'><strong><span style='font-family: Helve
 tica\;'><label for='mce-EMAIL'>Subscribe to the </label></span></strong></
 span>\n<span style='color: #000000\;'><strong><span style='font-family: He
 lvetica\;'><label for='mce-EMAIL'>Baplink mailing list</label></span></str
 ong></span>\n<span style='color: #000000\;'><strong><span style='font-fami
 ly: Helvetica\;'><input id='mce-EMAIL' class='email' name='EMAIL' required
 ='' type='email' value='' placeholder='email address'/></span></strong></s
 pan>\n<span style='color: #000000\;'><strong><span style='font-family: Hel
 vetica\;'><!-- real people should not fill this in and expect good things 
 - do not remove this or risk form bot signups--></span></strong></span></p
 re>\n<div style='position: absolute\; left: -5000px\; text-align: center\;
 '><span style='color: #000000\;'><strong><span style='font-family: Helveti
 ca\;'><input tabindex='-1' name='b_84a60206153f80d3f8c8f9eba_d6c4f56d54' t
 ype='text' value=''/></span></strong></span></div>\n<div class='clear' sty
 le='text-align: center\;'><span style='color: #000000\; font-size: 14pt\;'
 ><span style='font-family: Helvetica\;'><input id='mc-embedded-subscribe' 
 class='button' name='subscribe' type='submit' value='Subscribe'/></span></
 span></div>\n</div>\n</form>\n</div>\n<p><!--End mc_embed_signup--></p>\n<
 /div>\n</div></div></div></div></div></div>
DTSTART;VALUE=DATE:20180930
DTEND;VALUE=DATE:20181001
RRULE:FREQ=MONTHLY;INTERVAL=12;BYMONTHDAY=30
SEQUENCE:0
SUMMARY:Workcover Full Premium Due
URL:https://www.baplink.org.au/event/workcover-full-premium-due/
X-COST-TYPE:free
END:VEVENT
END:VCALENDAR
