BEGIN:VCALENDAR
VERSION:2.0
PRODID:-//77.104.142.166//NONSGML kigkonsult.se iCalcreator 2.24.2//
CALSCALE:GREGORIAN
METHOD:PUBLISH
X-WR-CALNAME:Baplink
X-WR-CALDESC:investing in ministry
X-FROM-URL:https://www.baplink.org.au
X-WR-TIMEZONE:Australia/Brisbane
BEGIN:VTIMEZONE
TZID:Australia/Brisbane
X-LIC-LOCATION:Australia/Brisbane
BEGIN:STANDARD
DTSTART:19920301T030000
TZOFFSETFROM:+1100
TZOFFSETTO:+1000
TZNAME:AEST
END:STANDARD
END:VTIMEZONE
BEGIN:VEVENT
UID:ai1ec-975@www.baplink.org.au
DTSTAMP:20190228T131447Z
CATEGORIES;LANGUAGE=en-AU:Monthly Super\,Quarterly BAS\,Quarterly Superannu
 ation
CONTACT:
DESCRIPTION:What does Baplink do?\nBaplink offers loans to: \n\nQueensland 
 Baptists Churches\n Registered Queensland Baptists Pastors\nMinistries aff
 iliated with Queensland Baptists \n\nLoans provided by Baplink contribute 
 to: \n\nBuilding new Queensland Baptists Churches \nExtending and renovati
 ng existing Queensland Baptists Churches\nBuilding and maintaining Christi
 an Schools and Childcare Facilities\nSupporting community welfare projects
  \n\nHow does Baplink support Queensland Baptists Churches?\n\nTransaction
 al accounts for Queensland Baptists Churches\, Pastors\, Ministries and Af
 filiates.\nOnline access through BAPNET and access using Apple and Android
  phones via the BAPAPP.\nKingdom Offset Accounts to offset Queensland Bapt
 ists Church interest.  \nImplementation\, Setup\, Training and Ongoing Sup
 port for Xero Accounting Software.\nQueensland Baptists Ministry Grants. 
 \n\nHow can I as an individual partner with Baplink?\n\nOpen a Fixed Term 
 Investment.\nOpen a Kingdom Offset Account to offset interest payments for
  a Queensland Baptists Church loan. \n\nIn order to offer these accounts\,
  Queensland Baptists has entered into an “intermediary authorisation” agre
 ement under s911A(2)(b) of the Corporations Act 2001 (Cth) with Theta Asse
 t Management Ltd ACN 071 807 684 AFSL 230920 (Theta Asset Management) unde
 r which Theta Asset Management has been appointed to arrange for the issue
 \, variation and disposal of Kingdom Offset Accounts by Queensland Baptist
 s. Theta Asset Management has also appointed Queensland Baptists (Authoris
 ed Representative number 1253438) and Robert Chapman (Authorised Represent
 ative number 1253437)\, the manager of Baplink\, as authorised representat
 ives of Theta Asset Management in relation to dealing in Kingdom Offset ac
 counts.\nCondition 11 of Banking Exemption No 1 2017\nQueensland Baptists 
 (the Fund) is not prudentially supervised by the Australian Prudential Reg
 ulation Authority.\nTherefore\, an investor in the Fund will not receive t
 he benefit of the financial claims scheme or the depositor protection prov
 isions in the Banking Act 1959.\nInvestments in the Fund are intended to b
 e a means for investors to support the charitable purposes of the Fund.\nA
 SIC Corporations (Charitable Investment Fundraiser) Instrument 2016/813\nQ
 ueensland Baptists is required by law to notify investors that:\n\n 	\nthe 
 investment is only intended to attract investors whose primary purpose of 
 making their investment is to support the charitable purposes of Queenslan
 d Baptists\;\ninvestors may be unable to get some or all of their money ba
 ck when the investor expects or at all\; and\nthe investment is not compar
 able to investments with banks\, finance companies or fund managers.\n\n 
 \n\n \n		\n		\n\n\n	\n	\n\n		\n		\n			\n			\n\n			\n		\n\n					\n				BAPNET User Guide\nGot questions ab
 out BAPNET online access\nClick on the link\nOr \nPhone the Operations Tea
 m on 1800 650 062\n															\n		\n		\n	\n\n\n\n	\n		\n		Post navigation\n\n	\n		1\n2\n3\nNext »
 \n\n	\n	\n	\n\n\n	\n\n	#mc_embed_signup{background:#fff\; clear:left\; font:14p
 x Helvetica\,Arial\,sans-serif\; }	/* Add your own MailChimp form style ove
 rrides in your site stylesheet or in this style block.	   We recommend movi
 ng this block and the preceding CSS link to the HEAD of your HTML file. */
 \n\n\n\nSubscribe to the \nBaplink mailing list
DTSTART;VALUE=DATE:20180916
DTEND;VALUE=DATE:20180917
RRULE:FREQ=MONTHLY;INTERVAL=12;BYMONTHDAY=16
SEQUENCE:0
SUMMARY:Workcover Discounted Premium Due
URL:https://www.baplink.org.au/event/workcover-discounted-premium-due/
X-COST-TYPE:free
X-ALT-DESC;FMTTYPE=text/html:<!DOCTYPE HTML PUBLIC '-//W3C//DTD HTML 3.2//E
 N'>\\n<HTML>\\n<HEAD>\\n<TITLE></TITLE>\\n</HEAD>\\n<BODY><div id='pl-37' 
  class='panel-layout' ><div id='pg-37-0'  class='panel-grid panel-no-style
 ' ><div id='pgc-37-0-0'  class='panel-grid-cell' ><div id='panel-37-0-0-0'
  class='so-panel widget widget_sow-editor panel-first-child panel-last-chi
 ld' data-index='0' ><div class='so-widget-sow-editor so-widget-sow-editor-
 base'>\n<div class='siteorigin-widget-tinymce textwidget'>\n	<p style='text
 -align: left\;'><span style='color: #333333\;'><strong><span style='font-f
 amily: Helvetica\; font-size: 14pt\;'>What does Baplink do?</span></strong
 ></span></p>\n<p><span style='color: #333333\; font-size: 12pt\; font-fami
 ly: Helvetica\;'><strong>Baplink offers loans to:</strong> </span></p>\n<u
 l>\n<li><span style='color: #333333\; font-size: 12pt\; font-family: Helve
 tica\;'>Queensland Baptists Churches</span></li>\n<li><span style='color: 
 #333333\; font-size: 12pt\; font-family: Helvetica\;'> Registered Queensla
 nd Baptists Pastors</span></li>\n<li><span style='color: #333333\; font-si
 ze: 12pt\; font-family: Helvetica\;'>Ministries affiliated with Queensland
  Baptists </span></li>\n</ul>\n<p><strong><span style='font-family: Helvet
 ica\; color: #333333\; font-size: 12pt\;'>Loans provided by Baplink contri
 bute to: </span></strong></p>\n<ul>\n<li><span style='font-family: Helveti
 ca\; color: #333333\; font-size: 12pt\;'>Building new Queensland Baptists 
 Churches </span></li>\n<li><span style='font-family: Helvetica\; color: #3
 33333\; font-size: 12pt\;'>Extending and renovating existing Queensland Ba
 ptists Churches</span></li>\n<li><span style='font-family: Helvetica\; col
 or: #333333\;'>Building and maintaining Christian Schools and Childcare Fa
 cilities</span></li>\n<li><span style='font-family: Helvetica\; color: #33
 3333\;'>Supporting community welfare projects </span></li>\n</ul>\n<p><spa
 n style='color: #333333\;'><strong><span style='font-family: Helvetica\; f
 ont-size: 14pt\;'>How does Baplink support Queensland Baptists Churches?</
 span></strong></span></p>\n<ul>\n<li><span style='font-family: Helvetica\;
  color: #333333\; font-size: 12pt\;'>Transactional accounts for Queensland
  Baptists Churches\, Pastors\, Ministries and Affiliates.</span></li>\n<li
 ><span style='font-family: Helvetica\; color: #333333\; font-size: 12pt\;'
 >Online access through BAPNET and access using Apple and Android phones vi
 a the BAPAPP.</span></li>\n<li><span style='color: #333333\;'><span style=
 'font-family: Helvetica\; font-size: 12pt\;'>Kingdom Offset Accounts to of
 fset <span style='font-family: Helvetica\; color: #333333\; font-size: 12p
 t\;'>Queensland Baptists Church</span> interest.  </span></span></li>\n<li
 ><span style='font-family: Helvetica\; color: #333333\; font-size: 12pt\;'
 >Implementation\, Setup\, Training and Ongoing Support for Xero Accounting
  Software.</span></li>\n<li><span style='color: #333333\; font-size: 12pt\
 ; font-family: Helvetica\;'>Queensland Baptists Ministry Grants. </span></
 li>\n</ul>\n<p><span style='color: #333333\;'><strong><span style='font-fa
 mily: Helvetica\; font-size: 14pt\;'>How can I as an individual partner wi
 th Baplink?</span></strong></span></p>\n<ol>\n<li><span style='font-family
 : Helvetica\; color: #333333\;'>Open a Fixed Term Investment.</span></li>
 \n<li><span style='font-family: Helvetica\; color: #333333\;'>Open a Kingd
 om Offset Account to offset interest payments for a <span style='color: #3
 33333\;'><span style='font-family: Helvetica\; font-size: 12pt\;'><span st
 yle='font-family: Helvetica\; color: #333333\; font-size: 12pt\;'>Queensla
 nd Baptists Church loan</span></span></span>. </span></li>\n</ol>\n<p><em>
 <span style='font-family: Helvetica\; color: #333333\;'>In order to offer 
 these accounts\, Queensland Baptists has entered into an “intermediary aut
 horisation” agreement under s911A(2)(b) of the Corporations Act 2001 (Cth)
  with Theta Asset Management Ltd ACN 071 807 684 AFSL 230920 (Theta Asset 
 Management) under which Theta Asset Management has been appointed to arran
 ge for the issue\, variation and disposal of Kingdom Offset Accounts by Qu
 eensland Baptists. Theta Asset Management has also appointed Queensland Ba
 ptists (Authorised Representative number 1253438) and Robert Chapman (Auth
 orised Representative number 1253437)\, the manager of Baplink\, as author
 ised representatives of Theta Asset Management in relation to dealing in K
 ingdom Offset accounts.</span></em></p>\n<p><span style='color: #333333\;'
 ><strong><span style='font-family: Helvetica\; font-size: 14pt\;'>Conditio
 n 11 of Banking Exemption No 1 2017</span></strong></span></p>\n<p><span s
 tyle='font-family: Helvetica\; color: #333333\;'>Queensland Baptists (the 
 Fund) is not prudentially supervised by the Australian Prudential Regulati
 on Authority.<br />\nTherefore\, an investor in the Fund will not receive 
 the benefit of the financial claims scheme or the depositor protection pro
 visions in the Banking Act 1959.<br />\nInvestments in the Fund are intend
 ed to be a means for investors to support the charitable purposes of the F
 und.</span></p>\n<p><span style='font-family: Helvetica\;'><span style='co
 lor: #333333\;'><strong><span style='font-family: Helvetica\; font-size: 1
 4pt\;'>ASIC Corporations (Charitable Investment Fundraiser) Instrument 201
 6/813</span></strong></span></span></p>\n<p><span style='font-family: Helv
 etica\; color: #333333\;'><span style='font-family: Helvetica\; color: #33
 3333\;'>Queensland Baptists is required by law to notify investors that:</
 span></span></p>\n<ul>\n 	<span style='font-family: Helvetica\; color: #333
 333\;'></p>\n<li>the investment is only intended to attract investors whos
 e primary purpose of making their investment is to support the charitable 
 purposes of Queensland Baptists\;</li>\n<li>investors may be unable to get
  some or all of their money back when the investor expects or at all\; and
 </li>\n<li>the investment is not comparable to investments with banks\, fi
 nance companies or fund managers.</li>\n<p></span></ul>\n<p> </p>\n</div>
 \n</div></div></div><div id='pgc-37-0-1'  class='panel-grid-cell' ><div id
 ='panel-37-0-1-0' class='so-panel widget widget_siteorigin-panels-postloop
  panel-first-child' data-index='1' ><div class='panel-widget-style panel-w
 idget-style-for-37-0-1-0' ><h3 class='widget-title'> </h3>\n		\n		\n<article i
 d='post-308' class='post-308 post type-post status-publish format-link hen
 try category-uncategorised post_format-post-format-link'>\n\n	\n	<div class=
 'entry-main'>\n\n		\n		<header class='entry-header'>\n			\n			<h1 class='entry-title
 '><a href='https://www.baplink.org.au/how-to-use-bapnet/' title='Permalink
  to ' rel='bookmark'></a></h1>\n\n			\n		</header><!-- .entry-header -->\n\n					<di
 v class='entry-content'>\n				<p style='text-align: center\;'><strong><span st
 yle='color: rgb(153\, 204\, 0)\; font-family: Helvetica\; font-size: 18pt\
 ;'>BAPNET User Guide</span></strong></p>\n<p style='text-align: center\;'>
 <span style='font-family: Helvetica\; font-size: 12pt\;'>Got questions abo
 ut BAPNET online access</span></p>\n<p style='text-align: center\;'><span 
 style='font-family: Helvetica\; font-size: 12pt\;'>Click on the <a href='h
 ttp://www.baplink.org.au/wp-content/uploads/2015/11/How-to-Use-Bapnet-v3.p
 df'>link</a></span></p>\n<p style='text-align: center\;'><span style='font
 -family: Helvetica\; font-size: 12pt\;'>Or </span></p>\n<p style='text-ali
 gn: center\;'><span style='font-family: Helvetica\; font-size: 12pt\;'>Pho
 ne the Operations Team on 1800 650 062</span></p>\n															</div><!-- .entry-conte
 nt -->\n		\n		\n	</div>\n\n</article><!-- #post-308 -->\n\n	\n		<nav role='navigat
 ion' id='nav-below' class='site-navigation paging-navigation'>\n		<h1 class=
 'assistive-text'>Post navigation</h1>\n\n	\n		<div class='pagination'><span a
 ria-current='page' class='page-numbers current'>1</span>\n<a class='page-n
 umbers' href='https://www.baplink.org.au/?plugin=all-in-one-event-calendar
 &controller=ai1ec_exporter_controller&action=export_events&ai1ec_post_ids=
 975&no_html=true#038\;controller=ai1ec_exporter_controller&action=export_e
 vents&ai1ec_post_ids=975&no_html=true/page/2/'>2</a>\n<a class='page-numbe
 rs' href='https://www.baplink.org.au/?plugin=all-in-one-event-calendar&con
 troller=ai1ec_exporter_controller&action=export_events&ai1ec_post_ids=975&
 no_html=true#038\;controller=ai1ec_exporter_controller&action=export_event
 s&ai1ec_post_ids=975&no_html=true/page/3/'>3</a>\n<a class='next page-numb
 ers' href='https://www.baplink.org.au/?plugin=all-in-one-event-calendar&co
 ntroller=ai1ec_exporter_controller&action=export_events&ai1ec_post_ids=975
 &no_html=true#038\;controller=ai1ec_exporter_controller&action=export_even
 ts&ai1ec_post_ids=975&no_html=true/page/2/'>Next »</a></div>\n\n	\n	</nav><!
 -- #nav-below -->\n	\n</div></div><div id='panel-37-0-1-1' class='so-panel 
 widget widget_sow-editor panel-last-child' data-index='2' ><div class='pan
 el-widget-style panel-widget-style-for-37-0-1-1' ><div class='so-widget-so
 w-editor so-widget-sow-editor-base'>\n<div class='siteorigin-widget-tinymc
 e textwidget'>\n	<p><!-- Begin MailChimp Signup Form --></p>\n<style type='
 text/css'>\n	#mc_embed_signup{background:#fff\; clear:left\; font:14px Helv
 etica\,Arial\,sans-serif\; }<br />	/* Add your own MailChimp form style ove
 rrides in your site stylesheet or in this style block.<br />	   We recommen
 d moving this block and the preceding CSS link to the HEAD of your HTML fi
 le. */<br /></style>\n<div id='mc_embed_signup'>\n<form id='mc-embedded-su
 bscribe-form' class='validate' action='//baplink.us10.list-manage.com/subs
 cribe/post?u=84a60206153f80d3f8c8f9eba&id=d6c4f56d54' method='post' name='
 mc-embedded-subscribe-form' novalidate='' target='_blan3k'>\n<div id='mc_e
 mbed_signup_scroll'>\n<pre style='text-align: center\;'><span style='color
 : #000000\;'><strong><span style='font-family: Helvetica\;'><label for='mc
 e-EMAIL'>Subscribe to the </label></span></strong></span>\n<span style='co
 lor: #000000\;'><strong><span style='font-family: Helvetica\;'><label for=
 'mce-EMAIL'>Baplink mailing list</label></span></strong></span>\n<span sty
 le='color: #000000\;'><strong><span style='font-family: Helvetica\;'><inpu
 t id='mce-EMAIL' class='email' name='EMAIL' required='' type='email' value
 ='' placeholder='email address'/></span></strong></span>\n<span style='col
 or: #000000\;'><strong><span style='font-family: Helvetica\;'><!-- real pe
 ople should not fill this in and expect good things - do not remove this o
 r risk form bot signups--></span></strong></span></pre>\n<div style='posit
 ion: absolute\; left: -5000px\; text-align: center\;'><span style='color: 
 #000000\;'><strong><span style='font-family: Helvetica\;'><input tabindex=
 '-1' name='b_84a60206153f80d3f8c8f9eba_d6c4f56d54' type='text' value=''/><
 /span></strong></span></div>\n<div class='clear' style='text-align: center
 \;'><span style='color: #000000\; font-size: 14pt\;'><span style='font-fam
 ily: Helvetica\;'><input id='mc-embedded-subscribe' class='button' name='s
 ubscribe' type='submit' value='Subscribe'/></span></span></div>\n</div>\n<
 /form>\n</div>\n<p><!--End mc_embed_signup--></p>\n</div>\n</div></div></d
 iv></div></div></div></BODY></HTML>
END:VEVENT
END:VCALENDAR
